BEGIN:VCALENDAR
VERSION:2.0
PRODID:-//I Fly Drones - ECPv6.15.20//NONSGML v1.0//EN
CALSCALE:GREGORIAN
METHOD:PUBLISH
X-WR-CALNAME:I Fly Drones
X-ORIGINAL-URL:https://iflydrones.com
X-WR-CALDESC:Events for I Fly Drones
REFRESH-INTERVAL;VALUE=DURATION:PT1H
X-Robots-Tag:noindex
X-PUBLISHED-TTL:PT1H
BEGIN:VTIMEZONE
TZID:UTC
BEGIN:STANDARD
TZOFFSETFROM:+0000
TZOFFSETTO:+0000
TZNAME:UTC
DTSTART:20240101T000000
END:STANDARD
END:VTIMEZONE
BEGIN:VEVENT
DTSTART;VALUE=DATE:20250902
DTEND;VALUE=DATE:20250905
DTSTAMP:20260419T231946
CREATED:20250708T124224Z
LAST-MODIFIED:20250708T124224Z
UID:10000047-1756771200-1757030399@iflydrones.com
SUMMARY:Commercial UAV Expo Americas 2025
DESCRIPTION:About Commercial UAV Expo Americas 2025\n\n\n\n\n\n\n\nCommercial UAV Expo is an international trade show and conference focused on the integration\, application and operation of UAVs (unmanned aerial vehicles). Hosted in Las Vegas\, the event draws thousands of visitors and exhibitors every year acting as a global showcase for the latest in Commercial UAS Technology. \n\n\nWhen is Commercial UAV Expo 2025?\n\n\nCommercial UAV Expo 2025 dates run from Tuesday 2nd September to Thursday 4th September\, 2025. \n\n\n\n\nWhat Commercial UAV Expo has to offer\nFull Conference Program\nCatch up on all the industry’s latest news\, technologies and predictions direct from a broad range of leading industry experts. Expo UAV delivers a comprehensive three day conference program showcasing new technologies\, technical presentations and commercial UAS (unmanned aerial system) case studies
URL:https://iflydrones.com/event/commercial-uav-expo-americas-2025/
LOCATION:Caesars Forum\, Las Vegas\, 3911 S Koval Ln\, Las Vegas\, NV\, 89109\, United States
ATTACH;FMTTYPE=image/png:https://iflydrones.com/wp-content/uploads/2025/07/Commercial-UAV-Expo-Drone-Conference-Trade-Show-07-08-2025_08_40_AM.png
END:VEVENT
END:VCALENDAR