BEGIN:VCALENDAR
VERSION:2.0
PRODID:-//I Fly Drones - ECPv6.15.20//NONSGML v1.0//EN
CALSCALE:GREGORIAN
METHOD:PUBLISH
X-ORIGINAL-URL:https://iflydrones.com
X-WR-CALDESC:Events for I Fly Drones
REFRESH-INTERVAL;VALUE=DURATION:PT1H
X-Robots-Tag:noindex
X-PUBLISHED-TTL:PT1H
BEGIN:VTIMEZONE
TZID:UTC
BEGIN:STANDARD
TZOFFSETFROM:+0000
TZOFFSETTO:+0000
TZNAME:UTC
DTSTART:20240101T000000
END:STANDARD
END:VTIMEZONE
BEGIN:VEVENT
DTSTART;VALUE=DATE:20250404
DTEND;VALUE=DATE:20250408
DTSTAMP:20260420T053312
CREATED:20250318T020314Z
LAST-MODIFIED:20250318T204239Z
UID:10000019-1743724800-1744070399@iflydrones.com
SUMMARY:5th Annual South Florida Drone Meetup
DESCRIPTION:The 5th Annual South Florida Drone Meetup will be held at Jensen Beach Causeway Park in Jensen Beach\, FL on April 4-7\, 2025. It’s free so please come join us. There will be new drone pilots as well as experienced drone pilots attending the event from all over the world. There are always many Drone Superstars there as well. We will have entertainment and raffle prizes. Many of the prizes will be hats\, shirts\, drone accessories and drones. We encourage adults to bring children. Let’s get kids hooked on Drones…NOT drugs! \n\nHere’s the itinerary for the 5th Annual South Florida Drone Meetup.\n\n\n\nFriday April 4\, 2025: 5pm-8pm Meet & Greet at Stix Billiard Club in Stuart\, FL\nSaturday April 5\, 2025: 7am-4pm Drone Meetup at Jensen Beach Causeway Park in Jensen Beach\, FL (NOTE: *Must arrive before 12pm to receive a giveaway prize ticket and only one ticket per attendee)\nSunday April 6\, 2025: 10am-1pm Drone Meetup at Dollman Park on Hutchinson Island in Jensen Beach\, FL
URL:https://iflydrones.com/event/5th-annual-south-florida-drone-meetup/
LOCATION:Jensen Beach Causeway Park\, Jensen Beach\, FL\, United States
ATTACH;FMTTYPE=image/jpeg:https://iflydrones.com/wp-content/uploads/2025/03/South-Florida-2025.jpg
END:VEVENT
END:VCALENDAR