BEGIN:VCALENDAR
VERSION:2.0
PRODID:-//I Fly Drones - ECPv6.15.20//NONSGML v1.0//EN
CALSCALE:GREGORIAN
METHOD:PUBLISH
X-ORIGINAL-URL:https://iflydrones.com
X-WR-CALDESC:Events for I Fly Drones
REFRESH-INTERVAL;VALUE=DURATION:PT1H
X-Robots-Tag:noindex
X-PUBLISHED-TTL:PT1H
BEGIN:VTIMEZONE
TZID:UTC
BEGIN:STANDARD
TZOFFSETFROM:+0000
TZOFFSETTO:+0000
TZNAME:UTC
DTSTART:20240101T000000
END:STANDARD
END:VTIMEZONE
BEGIN:VEVENT
DTSTART;VALUE=DATE:20250731
DTEND;VALUE=DATE:20250802
DTSTAMP:20260420T005050
CREATED:20250708T122600Z
LAST-MODIFIED:20250708T122600Z
UID:10000045-1753920000-1754092799@iflydrones.com
SUMMARY:Drone International Expo 2025
DESCRIPTION:About Drone International Expo 2025\nDrone International Expo 2025 will display the capabilities of drone\, anti drone and unmanned systems for various applications. It’s a platform for attendees and exhibitors to connect with a wide range of buyers and industry stakeholders. The end users will be connected to manufacturers of drones and inputs for various suppliers. \nThe expo is an ideal platform to break into the new market of drones and unmanned systems and will serve as a networking point for all the stakeholders of the sector. The event is going to be a forefront for drone related businesses\, and is conceptualized for it’s high level of B2B and B2G networking. \n  \n\nThemes of Drone International Expo 2025\n\nDrone and Anti-Drone Capabilities\nUnmanned Systems for Various Applications\nB2B and B2G Networking\nSupply Chain Collaboration \n\n\nWhat’s On?\nExhibition Features\nThe event displays a variety of drones and unmanned systems tailored for applications across air\, land\, and sea. Key technologies include GPS\, geospatial solutions\, AI\, radar\, and LiDAR systems\, as well as urban air mobility and anti-drone innovations​. \nNetworking Opportunities\nDesigned for robust industry collaboration\, the expo connects manufacturers\, suppliers\, service providers\, and end-users. It facilitates both business-to-business (B2B) and business-to-government (B2G) engagements\, offering unmatched networking potential​.
URL:https://iflydrones.com/event/drone-international-expo-2025/
LOCATION:New Delhi\, India
ATTACH;FMTTYPE=image/jpeg:https://iflydrones.com/wp-content/uploads/2025/07/Drone-International-Expo-2025-Flyer.jpg
END:VEVENT
END:VCALENDAR